BEGIN:VCALENDAR
VERSION:2.0
PRODID:-//ChamberMaster//Event Calendar 2.0//EN
METHOD:PUBLISH
X-PUBLISHED-TTL:P3D
REFRESH-INTERVAL:P3D
CALSCALE:GREGORIAN
BEGIN:VEVENT
DTSTART:20190806T210000Z
DTEND:20190806T230000Z
X-MICROSOFT-CDO-ALLDAYEVENT:FALSE
SUMMARY:2019 BAH - LW Medical Center - 8/6/19
DESCRIPTION:BAH - Social Networking LIve
X-ALT-DESC;FMTTYPE=text/html:BAH - Social Networking LIve
LOCATION:Lake Wales Medical Center
UID:e.2605.185
SEQUENCE:3
DTSTAMP:20260422T192429Z
URL:https://business.lakewaleschamber.com/events/details/2019-bah-lw-medical-center-8-6-19-185
END:VEVENT

END:VCALENDAR
