BEGIN:VCALENDAR
VERSION:2.0
PRODID:-//ChamberMaster//Event Calendar 2.0//EN
METHOD:PUBLISH
X-PUBLISHED-TTL:P3D
REFRESH-INTERVAL:P3D
CALSCALE:GREGORIAN
BEGIN:VEVENT
DTSTART:20190912T210000Z
DTEND:20190912T230000Z
X-MICROSOFT-CDO-ALLDAYEVENT:FALSE
SUMMARY:2019 BAH - LW Title Company - 9/12/19
DESCRIPTION:BAH - Social Networking Live
X-ALT-DESC;FMTTYPE=text/html:BAH - Social Networking Live&nbsp\;
LOCATION:Lake Wales Title Company
UID:e.2605.186
SEQUENCE:3
DTSTAMP:20260422T180240Z
URL:https://business.lakewaleschamber.com/events/details/2019-bah-lw-title-company-9-12-19-186
END:VEVENT

END:VCALENDAR
