BEGIN:VCALENDAR
VERSION:2.0
PRODID:-//ChamberMaster//Event Calendar 2.0//EN
METHOD:PUBLISH
X-PUBLISHED-TTL:P3D
REFRESH-INTERVAL:P3D
CALSCALE:GREGORIAN
BEGIN:VEVENT
DTSTART:20191112T220000Z
DTEND:20191112T233000Z
X-MICROSOFT-CDO-ALLDAYEVENT:FALSE
SUMMARY:2019 Business After Hours at Whispering Pines\, 11/12/19
DESCRIPTION:
X-ALT-DESC;FMTTYPE=text/html:
LOCATION:
UID:e.2605.182
SEQUENCE:3
DTSTAMP:20260420T073803Z
URL:https://business.lakewaleschamber.com/events/details/2019-business-after-hours-at-whispering-pines-11-12-19-182
END:VEVENT

END:VCALENDAR
