BEGIN:VCALENDAR
VERSION:2.0
PRODID:-//ChamberMaster//Event Calendar 2.0//EN
METHOD:PUBLISH
X-PUBLISHED-TTL:P3D
REFRESH-INTERVAL:P3D
CALSCALE:GREGORIAN
BEGIN:VEVENT
DTSTART:20191206T163000Z
DTEND:20191206T180000Z
X-MICROSOFT-CDO-ALLDAYEVENT:FALSE
SUMMARY:2019 Holiday Luncheon & Annual Meeting @ Lake Wales Country Club\, 12/6/19
DESCRIPTION:
X-ALT-DESC;FMTTYPE=text/html:
LOCATION:
UID:e.2605.194
SEQUENCE:3
DTSTAMP:20260422T133852Z
URL:https://business.lakewaleschamber.com/events/details/2019-holiday-luncheon-annual-meeting-lake-wales-country-club-12-6-19-194
END:VEVENT

END:VCALENDAR
