BEGIN:VCALENDAR
VERSION:2.0
PRODID:-//ChamberMaster//Event Calendar 2.0//EN
METHOD:PUBLISH
X-PUBLISHED-TTL:P3D
REFRESH-INTERVAL:P3D
CALSCALE:GREGORIAN
BEGIN:VEVENT
DTSTART:20190606T220000Z
DTEND:20190607T010000Z
X-MICROSOFT-CDO-ALLDAYEVENT:FALSE
SUMMARY:2019 Leadership Lake Wales Class 23 Graduation\, 6/6/19
DESCRIPTION:Graduation Reception/Dinner for LLW Class 23
X-ALT-DESC;FMTTYPE=text/html:Graduation Reception/Dinner for LLW Class 23&nbsp\;&nbsp\;&nbsp\;&nbsp\;&nbsp\;
LOCATION:American Legion Post #71
UID:e.2605.180
SEQUENCE:3
DTSTAMP:20260422T214837Z
URL:https://business.lakewaleschamber.com/events/details/2019-leadership-lake-wales-class-23-graduation-6-6-19-180
END:VEVENT

END:VCALENDAR
