BEGIN:VCALENDAR
VERSION:2.0
PRODID:-//ChamberMaster//Event Calendar 2.0//EN
METHOD:PUBLISH
X-PUBLISHED-TTL:P3D
REFRESH-INTERVAL:P3D
CALSCALE:GREGORIAN
BEGIN:VEVENT
DTSTART:20190619T120000Z
DTEND:20190619T133000Z
X-MICROSOFT-CDO-ALLDAYEVENT:FALSE
SUMMARY:2019 Power Breakfast - US Mobility Study\, 6/19/19
DESCRIPTION:Join us for our next Power Breakfast\, where we'll learn more about the US 27 Mobility Study\, currently underway by the Florida Department of Transportation. Project Manager Sarah Catala will update us on this project\, which encompasses 32 miles of US 27 from SR 60 in Lake Wales\, north to US 192 at the Polk / Lake County line. The study is intended to identify mobility needs and define projects and strategies to improve mobility\, safety and livability along the corridor. If you live\, work or play in eastern Polk County\, this is a presentation you won't want to miss!
X-ALT-DESC;FMTTYPE=text/html:<p align="LEFT"><b><font color="#00009a" face="LiberationSans-Bold" size="5"><font color="#00009a" face="LiberationSans-Bold" size="5"><font color="#00009a" face="LiberationSans-Bold" size="5">Join us for our next Power Breakfast\, where we&rsquo\;ll learn more about <b><font color="#00009a" face="LiberationSans-Bold" size="5"><font color="#00009a" face="LiberationSans-Bold" size="5"><font color="#00009a" face="LiberationSans-Bold" size="5">the US 27 Mobility Study\, currently underway by the Florida <b><font color="#00009a" face="LiberationSans-Bold" size="5"><font color="#00009a" face="LiberationSans-Bold" size="5"><font color="#00009a" face="LiberationSans-Bold" size="5">Department of Transportation. Project Manager Sarah Catala will <b><font color="#00009a" face="LiberationSans-Bold" size="5"><font color="#00009a" face="LiberationSans-Bold" size="5"><font color="#00009a" face="LiberationSans-Bold" size="5">update us on this project\, which encompasses 32 miles of US 27 <b><font color="#00009a" face="LiberationSans-Bold" size="5"><font color="#00009a" face="LiberationSans-Bold" size="5"><font color="#00009a" face="LiberationSans-Bold" size="5">from SR 60 in Lake Wales\, north to US 192 at the Polk / Lake County <b><font color="#00009a" face="LiberationSans-Bold" size="5"><font color="#00009a" face="LiberationSans-Bold" size="5"><font color="#00009a" face="LiberationSans-Bold" size="5">line. The study is intended to identify mobility needs and define <b><font color="#00009a" face="LiberationSans-Bold" size="5"><font color="#00009a" face="LiberationSans-Bold" size="5"><font color="#00009a" face="LiberationSans-Bold" size="5">projects and strategies to improve mobility\, safety and livability <b><font color="#00009a" face="LiberationSans-Bold" size="5"><font color="#00009a" face="LiberationSans-Bold" size="5"><font color="#00009a" face="LiberationSans-Bold" size="5">along the corridor. If you live\, work or play in eastern Polk County\, <b><font color="#00009a" face="LiberationSans-Bold" size="5"><font color="#00009a" face="LiberationSans-Bold" size="5"><font color="#00009a" face="LiberationSans-Bold" size="5">this is a presentation you won&rsquo\;t want to miss!</font></font></font></b></font></font></font></b></font></font></font></b></font></font></font></b></font></font></font></b></font></font></font></b></font></font></font></b></font></font></font></b></font></font></font></b></p>\n
LOCATION:Christ's Church on the Move 2039 Hwy 60 East\, Lake Wales
UID:e.2605.181
SEQUENCE:3
DTSTAMP:20260422T214739Z
URL:https://business.lakewaleschamber.com/events/details/2019-power-breakfast-us-mobility-study-6-19-19-181
END:VEVENT

END:VCALENDAR
