BEGIN:VCALENDAR
VERSION:2.0
PRODID:-//ChamberMaster//Event Calendar 2.0//EN
METHOD:PUBLISH
X-PUBLISHED-TTL:P3D
REFRESH-INTERVAL:P3D
CALSCALE:GREGORIAN
BEGIN:VEVENT
DTSTART:20190912T113000Z
DTEND:20190912T133000Z
X-MICROSOFT-CDO-ALLDAYEVENT:FALSE
SUMMARY:2019 Power Breakfast with Grady Judd\, September 12\, 2019
DESCRIPTION:Rescheduled - Sheriff Judd has been able to reschedule for September 12th !! \n\n(notice: 6/26/19)
X-ALT-DESC;FMTTYPE=text/html:<span style="color: rgb(255\, 0\, 0)\;"><span style="font-size: 18px\;"><strong><span style="line-height: 115%\; font-family: &quot\;Calibri&quot\;\,sans-serif\; mso-fareast-font-family: Calibri\; mso-fareast-theme-font: minor-latin\; mso-ansi-language: EN-US\; mso-fareast-language: EN-US\; mso-bidi-language: AR-SA\;">Rescheduled - Sheriff Judd has been able to reschedule for September 12th !!&nbsp\;<br />\n(notice: 6/26/19)</span></strong></span></span><br />\n<br />\n<br />\n<br />\n&nbsp\;
LOCATION:Christ's Church on the Move 2039 Hwy 60 East\, Lake Wales
UID:e.2605.178
SEQUENCE:3
DTSTAMP:20260422T180153Z
URL:https://business.lakewaleschamber.com/events/details/2019-power-breakfast-with-grady-judd-september-12-2019-178
END:VEVENT

END:VCALENDAR
