BEGIN:VCALENDAR
VERSION:2.0
PRODID:-//ChamberMaster//Event Calendar 2.0//EN
METHOD:PUBLISH
X-PUBLISHED-TTL:P3D
REFRESH-INTERVAL:P3D
CALSCALE:GREGORIAN
BEGIN:VEVENT
DTSTART:20190926T120000Z
DTEND:20190926T133000Z
X-MICROSOFT-CDO-ALLDAYEVENT:FALSE
SUMMARY:2019 Power Breakfast with State Atty. Brian Haas - 10/11/19
DESCRIPTION:
X-ALT-DESC;FMTTYPE=text/html:
LOCATION:Water's Edge of Lake Wales
UID:e.2605.192
SEQUENCE:3
DTSTAMP:20260422T180259Z
URL:https://business.lakewaleschamber.com/events/details/2019-power-breakfast-with-state-atty-brian-haas-10-11-19-192
END:VEVENT

END:VCALENDAR
