BEGIN:VCALENDAR
VERSION:2.0
PRODID:-//ChamberMaster//Event Calendar 2.0//EN
METHOD:PUBLISH
X-PUBLISHED-TTL:P3D
REFRESH-INTERVAL:P3D
CALSCALE:GREGORIAN
BEGIN:VEVENT
DTSTART:20241204T130000Z
DTEND:20241204T140000Z
X-MICROSOFT-CDO-ALLDAYEVENT:FALSE
SUMMARY:2024 LLW / YLLW Breakfast Before Business - Wed.\, 12/4/2024
DESCRIPTION:Breakfast Before Business for Leadership Lake Wales & Youth Leadership Lake Wales
X-ALT-DESC;FMTTYPE=text/html:Breakfast Before Business for Leadership Lake Wales &amp\; Youth Leadership Lake Wales
LOCATION:Lake Wales Family Recreation Center
UID:e.2605.277
SEQUENCE:3
DTSTAMP:20260419T115041Z
URL:https://business.lakewaleschamber.com/events/details/2024-llw-yllw-breakfast-before-business-wed-12-4-2024-277
END:VEVENT

END:VCALENDAR
