BEGIN:VCALENDAR
VERSION:2.0
PRODID:-//ChamberMaster//Event Calendar 2.0//EN
METHOD:PUBLISH
X-PUBLISHED-TTL:P3D
REFRESH-INTERVAL:P3D
CALSCALE:GREGORIAN
BEGIN:VEVENT
DTSTART:20251114T163000Z
DTEND:20251114T183000Z
X-MICROSOFT-CDO-ALLDAYEVENT:FALSE
SUMMARY:2025 Member Appreciation BBQ - Fri.\, 11-14-2025
DESCRIPTION:Member Appreciation BBQ
X-ALT-DESC;FMTTYPE=text/html:Member Appreciation BBQ
LOCATION:City of Lake Wales Recreation Center
UID:e.2605.298
SEQUENCE:3
DTSTAMP:20260419T132306Z
URL:https://business.lakewaleschamber.com/events/details/2025-member-appreciation-bbq-fri-11-14-2025-298
END:VEVENT

END:VCALENDAR
